Workbook
Name Additional_Factor: 'אפשרויות בחירה'!$C$701:$C$850
Name Amoritization: 'אפשרויות בחירה'!$C$546:$C$550
Name Capsule: 'אפשרויות בחירה'!$C$926:$C$928
Name Company_Name: 'File Name Info'!$A$34:$A$120
Name Company_Name_ID: 'File Name Info'!$A$34:$B$120
Name Consortium: 'אפשרויות בחירה'!$C$514:$C$515
Name Country_list: 'אפשרויות בחירה'!$C$4:$C$85
Name Country_list_funds: 'אפשרויות בחירה'!$C$4:$C$103
Name CSA: 'אפשרויות בחירה'!$C$688:$C$689
Name Delivery: 'אפשרויות בחירה'!$C$666:$C$667
Name Dependence_Independence: 'אפשרויות בחירה'!$C$654:$C$655
Name Duration_Underlying_Interest_Rate: 'אפשרויות בחירה'!$C$680:$C$687
Name File_Type: 'File Name Info'!$A$10:$A$12
Name Full_File_Type: 'File Name Info'!$A$11:$B$13
Name Full_Type: 'File Name Info'!$A$2:$B$8
Name Full_Type_Nostro: 'File Name Info'!$A$3:$B$6
Name Full_Year: 'File Name Info'!$A$22:$B$31
Name Fund_Strategy: 'אפשרויות בחירה'!$C$597:$C$621
Name Fund_type: 'אפשרויות בחירה'!$C$328:$C$498
Name Holding_interest: 'אפשרויות בחירה'!$C$146:$C$147
Name In_the_books: 'אפשרויות בחירה'!$C$656:$C$657
Name Industry_Sector: 'אפשרויות בחירה'!$C$1129:$C$1245
Name Industry_sector_all: 'אפשרויות בחירה'!$C$202:$C$327
Name Industry_sectors: 'אפשרויות בחירה'!$C$202:$C$327
Name israel_abroad: 'אפשרויות בחירה'!$C$2:$C$3
Name Issuer_Number_Banks: 'אפשרויות בחירה'!$C$111:$C$113
Name Issuer_Number_Fund: 'אפשרויות בחירה'!$C$114:$C$117
Name issuer_number_loan: 'אפשרויות בחירה'!$C$118:$C$126
Name Issuer_Number_Type: 'אפשרויות בחירה'!$C$104:$C$110
Name Issuer_Number_Type_2: 'אפשרויות בחירה'!$C$1076:$C$1079
Name Issuer_Number_Type_3: 'אפשרויות בחירה'!$C$1081:$C$1085
Name Issuer_Number_Type_V2: 'אפשרויות בחירה'!$C$104:$C$110
Name Issuer_Type_TFunds: 'אפשרויות בחירה'!$C$1087:$C$1089
Name Leading_factor: 'אפשרויות בחירה'!$C$692:$C$700
Name Linked_Type: 'אפשרויות בחירה'!$C$516:$C$519
Name other_investments: 'אפשרויות בחירה'!$C$1000:$C$1033
Name Penalty: 'אפשרויות בחירה'!$C$851:$C$852
Name QTR: 'File Name Info'!$A$15:$A$19
Name Rating_Agency: 'אפשרויות בחירה'!$C$188:$C$201
Name real_estate_lifestage: 'אפשרויות בחירה'!$C$634:$C$642
Name real_estate_loans: 'אפשרויות בחירה'!$C$553:$C$591
Name Real_Estate_Main_Use: 'אפשרויות בחירה'!$C$622:$C$633
Name Recourse_Nonrecourse: 'אפשרויות בחירה'!$C$544:$C$545
Name Repayment_Rights: 'אפשרויות בחירה'!$C$551:$C$552
Name Reset_frequency: 'אפשרויות בחירה'!$C$658:$C$665
Name Security_ID_Number_Type: 'אפשרויות בחירה'!$C$1113:$C$1116
Name Security_Number_Loans: 'אפשרויות בחירה'!$C$131
Name Stock_Exchange: 'אפשרויות בחירה'!$C$1283:$C$1315
Name Stock_Exchange_Gov_Bonds: 'אפשרויות בחירה'!$C$148:$C$181
Name Subordination_Risk: 'אפשרויות בחירה'!$C$186:$C$187
Name Tradeable_Status: 'אפשרויות בחירה'!$C$1272:$C$1281
Name Tradeable_Status_All: 'אפשרויות בחירה'!$C$135:$C$145
Name tradeable_status_bonds: 'אפשרויות בחירה'!$C$1248:$C$1253
Name tradeable_status_funds: 'אפשרויות בחירה'!$C$1118:$C$1119
Name tradeable_status_stock: 'אפשרויות בחירה'!$C$1255:$C$1259
Name Tradeable_Status_v2: 'אפשרויות בחירה'!$C$1121:$C$1126
Name tradeable_status_warrants: 'אפשרויות בחירה'!$C$1261:$C$1265
Name tradeable_status_warrants_v2: 'אפשרויות בחירה'!$C$1267:$C$1269
Name Transaction: 'אפשרויות בחירה'!$C$643:$C$646
Name Type: 'File Name Info'!$A$2:$A$8

Sheet עמוד פתיחה
A1: קובץ דיווח עבור רשימת נכסים ברמת הנכס הבודד (חוזר גופים מוסדיים 215-9-14)
A3: יש לבחור תחום: | D3: נכסי עמיתים - קופות גמל
A5: האם מדובר בקובץ לממומנה או לציבור: | D5: לממונה
A7: יש לבחור את רבעון הדיווח: | D7: 02
A9: יש לבחור את שנת הדיווח: | D9: 2026
A11: יש לבחור את הגוף המוסדי: | D11: החברה לניהול קרן השתלמות למשפטנים בע"מ
A13: ח.פ. הגוף המוסדי: | D13: 520028861
A15: שם קובץ לשמירה
A17: פרטי האחראי על הדיווח בגוף המוסדי | B17: שם:
B19: מספר טלפון:
B21: כתובת מייל:
A23: הוראות למילוי הדיווח: | D23: יש לדווח לפי ההנחיות בחלק ג` לנספח 5.4.3.2 שבפרק 3 שבחלק 4 לשער 5 בחוזר המאוחד.

Sheet סכום נכסים
C1: ידווח בקבצי נכסי הנוסטרו בלבד
B2: שווי הוגן (באלפי ש"ח) | C2: עלות מופחתת (באלפי ש"ח) | D2: השיטה שיושמה בדוח הכספי | E2: שיעור מסך נכסי השקעה
A3: מזומנים ושווי מזומנים | B3: 10983.433 | C3: 0 | D3: 0 | E3: 0.020623309
A4: איגרות חוב ממשלתיות | B4: 87346.599 | C4: 0 | D4: 0 | E4: 0.16400845
A5: ניירות ערך מסחריים | B5: 0 | C5: 0 | D5: 0 | E5: 0
A6: איגרות חוב | B6: 121497.8 | C6: 0 | D6: 0 | E6: 0.22813328
A7: מניות, מניות בכורה ויחידות השתתפות | B7: 123323.48 | C7: 0 | D7: 0 | E7: 0.2315613
A8: קרנות סל | B8: 149417.37 | C8: 0 | D8: 0 | E8: 0.28055714
A9: קרנות נאמנות | B9: 1628.8036 | C9: 0 | D9: 0 | E9: 0.0030583624
A10: כתבי אופציה | B10: 0 | C10: 0 | D10: 0 | E10: 0
A11: אופציות | B11: 0 | C11: 0 | D11: 0 | E11: 0
A12: חוזים עתידיים | B12: 0 | C12: 0 | D12: 0 | E12: 0
A13: מוצרים מובנים | B13: 0 | C13: 0 | D13: 0 | E13: 0
A14: לא סחיר איגרות חוב ממשלתיות | B14: 0 | C14: 0 | D14: 0 | E14: 0
... A32: יתרות התחייבויות להשקעה | B32: 2934.803 | C32: 0 | D32: 0 | E32: 0.0055106037

Sheet מזומנים ושווי מזומנים
A1: מספר קופה/קרן/ח.פ. עבור חברת ביטוח | B1: מספר מסלול | C1: שם הבנק | D1: מספר מזהה בנק | E1: סוג מספר מזהה בנק | F1: מאפיין עיקרי | G1: ישראל/חו"ל | H1: בעל עניין/צד קשור | I1: דירוג הבנק | J1: שם מדרג | K1: מטבע פעילות | L1: שווי מטבעי | M1: שער חליפין | N1: שיעור ריבית | O1: שווי הוגן (באלפי ש"ח) | P1: שיעור מנכסי אפיק ההשקעה | Q1: שיעור מסך נכסי ההשקעה
A2: 292 | B2: 292 | C2: בנק הפועלים בע"מ | D2: 12-509 | E2: סימול בנק | F2: מזומן ועו"ש נקוב במט"ח | G2: ישראל | H2: לא | I2: ilAAA | J2: מעלות S&P | K2: USD | L2: 0 | M2: 2.978 | N2: 0 | O2: 0 | P2: 0 | Q2: 0
A3: 292 | B3: 292 | C3: בנק הפועלים בע"מ | D3: 12-509 | E3: סימול בנק | F3: מזומן ועו"ש בש"ח | G3: ישראל | H3: לא | I3: ilAAA | J3: מעלות S&P | K3: ILS | L3: 0 | M3: 1 | N3: 0 | O3: 1e-05 | P3: 0 | Q3: 0
A4: 292 | B4: 292 | C4: בנק הפועלים בע"מ | D4: 12-509 | E4: סימול בנק | F4: מזומן ועו"ש נקוב במט"ח | G4: ישראל | H4: לא | I4: ilAAA | J4: מעלות S&P | K4: EUR | L4: 7.9247 | M4: 3.3945 | N4: 0 | O4: 26.90049 | P4: 0.0025463 | Q4: 5.26e-05
A5: 292 | B5: 292 | C5: בנק הפועלים בע"מ | D5: 12-509 | E5: סימול בנק | F5: מזומן ועו"ש בש"ח | G5: ישראל | H5: לא | I5: ilAAA | J5: מעלות S&P | K5: ILS | L5: 233.5217 | M5: 1 | N5: 0 | O5: 233.52171 | P5: 0.0221043 | Q5: 0.0004567
A6: 292 | B6: 292 | C6: בנק הפועלים בע"מ | D6: 12-509 | E6: סימול בנק | F6: מזומן ועו"ש בש"ח | G6: ישראל | H6: לא | I6: ilAAA | J6: מעלות S&P | K6: ILS | L6: 4577.7567 | M6: 1 | N6: 0 | O6: 4577.7567 | P6: 0.4333129 | Q6: 0.0089522
A7: 292 | B7: 292 | C7: בנק הפועלים בע"מ | D7: 12-509 | E7: סימול בנק | F7: מזומן ועו"ש נקוב במט"ח | G7: ישראל | H7: לא | I7: ilAAA | J7: מעלות S&P | K7: USD | L7: 1922.8919 | M7: 2.978 | N7: 0 | O7: 5726.3722 | P7: 0.5420365 | Q7: 0.0111985
A8: 292 | B8: 1454 | C8: בנק הפועלים בע"מ | D8: 12-509 | E8: סימול בנק | F8: מזומן ועו"ש נקוב במט"ח | G8: ישראל | H8: לא | I8: ilAAA | J8: מעלות S&P | K8: USD | L8: 0 | M8: 2.978 | N8: 0 | O8: 0 | P8: 0 | Q8: 0
A9: 292 | B9: 1454 | C9: בנק הפועלים בע"מ | D9: 12-509 | E9: סימול בנק | F9: מזומן ועו"ש נקוב במט"ח | G9: ישראל | H9: לא | I9: ilAAA | J9: מעלות S&P | K9: SGD | L9: 0.0118 | M9: 2.2993 | N9: 0 | O9: 0.02736 | P9: 8.2e-05 | Q9: 1.6e-06
A10: 292 | B10: 1454 | C10: בנק הפועלים בע"מ | D10: 12-509 | E10: סימול בנק | F10: מזומן ועו"ש בש"ח | G10: ישראל | H10: לא | I10: ilAAA | J10: מעלות S&P | K10: ILS | L10: 0.7342 | M10: 1 | N10: 0 | O10: 0.73426 | P10: 0.0022019 | Q10: 4.34e-05
A11: 292 | B11: 1454 | C11: בנק הפועלים בע"מ | D11: 12-509 | E11: סימול בנק | F11: מזומן ועו"ש נקוב במט"ח | G11: ישראל | H11: לא | I11: ilAAA | J11: מעלות S&P | K11: GBP | L11: 0.4408 | M11: 3.9389 | N11: 0 | O11: 1.73646 | P11: 0.0052072 | Q11: 0.0001027
A12: 292 | B12: 1454 | C12: בנק הפועלים בע"מ | D12: 12-509 | E12: סימול בנק | F12: מזומן ועו"ש בש"ח | G12: ישראל | H12: לא | I12: ilAAA | J12: מעלות S&P | K12: ILS | L12: 3.6963 | M12: 1 | N12: 0 | O12: 3.69637 | P12: 0.0110846 | Q12: 0.0002187
A13: 292 | B13: 1454 | C13: בנק הפועלים בע"מ | D13: 12-509 | E13: סימול בנק | F13: מזומן ועו"ש נקוב במט"ח | G13: ישראל | H13: לא | I13: ilAAA | J13: מעלות S&P | K13: EUR | L13: 1.5535 | M13: 3.3945 | N13: 0 | O13: 5.27362 | P13: 0.0158144 | Q13: 0.000312
... A17: 292 | B17: 1455 | C17: בנק הפועלים בע"מ | D17: 12-509 | E17: סימול בנק | F17: פח"ק/פר"י | G17: ישראל | H17: לא | I17: ilAAA | J17: מעלות S&P | K17: ILS | L17: 79.283 | M17: 1 | N17: 0.0328 | O17: 79.28305 | P17: 0.9282421 | Q17: 0.0184548

Sheet איגרות חוב ממשלתיות
A1: מספר קופה/קרן/ח.פ. עבור חברת ביטוח | B1: מספר מסלול | C1: שם מנפיק | D1: שם נייר ערך | E1: מספר נייר ערך | F1: מאפיין עיקרי | G1: ישראל/חו"ל | H1: מדינה לפי חשיפה כלכלית | I1: זירת מסחר | J1: דירוג | K1: שם מדרג | L1: מטבע פעילות | M1: מח"מ | N1: מועד פדיון | O1: שיעור ריבית | P1: תשואה לפדיון | Q1: סכום לקבל (במטבע הפעילות) | R1: ערך נקוב (יחידות) | S1: שער חליפין | T1: שער נייר הערך | U1: שווי הוגן (באלפי ש"ח) | V1: עלות מופחתת (באלפי ש"ח) | W1: השיטה שיושמה בדוח הכספי | X1: שיעור מערך נקוב מונפק | Y1: שיעור מנכסי אפיק ההשקעה | Z1: שיעור מסך נכסי ההשקעה
A2: 292 | B2: 292 | C2: ממשלת ישראל | D2: ממשל צמודה 0536 | E2: IL0010977085 | F2: צמוד למדד המחירים לצרכן בריבית קבועה | G2: ישראל | H2: ישראל | I2: TASE | J2: RF | K2: פנימי | L2: ILS | M2: 8.51 | N2: 30/05/2036 | O2: 0.04 | P2: 0.0187 | Q2: 0 | R2: 1165109 | S2: 1 | T2: 169.52 | U2: 1975.0928 | W2: שווי הוגן | X2: 7.31e-05 | Y2: 0.0231286 | Z2: 0.0038625
A3: 292 | B3: 292 | C3: ממשלת ישראל | D3: ממשל שקלית 0142 | E3: IL0011254005 | F3: לא צמוד למדד המחירים לצרכן ריבית קבועה | G3: ישראל | H3: ישראל | I3: TASE | J3: RF | K3: פנימי | L3: ILS | M3: 11.06 | N3: 31/01/2042 | O3: 0.055 | P3: 0.0394 | Q3: 0 | R3: 19920168 | S3: 1 | T3: 120.13 | U3: 23930.098 | W3: שווי הוגן | X3: 0.0005409 | Y3: 0.2802245 | Z3: 0.0467975
A4: 292 | B4: 292 | C4: ממשלת ישראל | D4: ממשל שקלית 0327 | E4: IL0011393449 | F4: לא צמוד למדד המחירים לצרכן ריבית קבועה | G4: ישראל | H4: ישראל | I4: TASE | J4: RF | K4: פנימי | L4: ILS | M4: 0.75 | N4: 31/03/2027 | O4: 0.02 | P4: 0.0318 | Q4: 0 | R4: 8500000 | S4: 1 | T4: 99.63 | U4: 8468.55 | W4: שווי הוגן | X4: 0.0003011 | Y4: 0.0991678 | Z4: 0.016561
A5: 292 | B5: 292 | C5: ממשלת ישראל | D5: ממשל צמודה 0527 | E5: IL0011408478 | F5: צמוד למדד המחירים לצרכן בריבית קבועה | G5: ישראל | H5: ישראל | I5: TASE | J5: RF | K5: פנימי | L5: ILS | M5: 0.92 | N5: 31/05/2027 | O5: 0.0075 | P5: 0.0172 | Q5: 0 | R5: 560000 | S5: 1 | T5: 119.65 | U5: 670.04 | W5: שווי הוגן | X5: 2.29e-05 | Y5: 0.0078463 | Z5: 0.0013103
A6: 292 | B6: 292 | C6: ממשלת ישראל | D6: ממשל שקלית 0928 | E6: IL0011508798 | F6: לא צמוד למדד המחירים לצרכן ריבית קבועה | G6: ישראל | H6: ישראל | I6: TASE | J6: RF | K6: פנימי | L6: ILS | M6: 2.18 | N6: 28/09/2028 | O6: 0.0225 | P6: 0.0327 | Q6: 0 | R6: 1000000 | S6: 1 | T6: 99.5 | U6: 995 | W6: שווי הוגן | X6: 2.88e-05 | Y6: 0.0116516 | Z6: 0.0019458
A7: 292 | B7: 292 | C7: ממשלת ישראל | D7: ממשל צמודה 0529 | E7: IL0011570236 | F7: צמוד למדד המחירים לצרכן בריבית קבועה | G7: ישראל | H7: ישראל | I7: TASE | J7: RF | K7: פנימי | L7: ILS | M7: 2.9 | N7: 31/05/2029 | O7: 0.005 | P7: 0.0163 | Q7: 0 | R7: 2500000 | S7: 1 | T7: 115.67 | U7: 2891.75 | W7: שווי הוגן | X7: 7.54e-05 | Y7: 0.0338628 | Z7: 0.0056551
A8: 292 | B8: 292 | C8: ממשלת ישראל | D8: ממשל שקלית 0330 | E8: IL0011609851 | F8: לא צמוד למדד המחירים לצרכן ריבית קבועה | G8: ישראל | H8: ישראל | I8: TASE | J8: RF | K8: פנימי | L8: ILS | M8: 3.69 | N8: 31/03/2030 | O8: 0.01 | P8: 0.0335 | Q8: 0 | R8: 6113707 | S8: 1 | T8: 92.07 | U8: 5628.89 | W8: שווי הוגן | X8: 0.0001619 | Y8: 0.065915 | Z8: 0.0110078
A9: 292 | B9: 292 | C9: ממשלת ישראל | D9: ממשל צמודה 0726 | E9: IL0011695645 | F9: צמוד למדד המחירים לצרכן בריבית קבועה | G9: ישראל | H9: ישראל | I9: TASE | J9: RF | K9: פנימי | L9: ILS | M9: 0.08 | N9: 31/07/2026 | O9: 0.001 | P9: 0.0484 | Q9: 0 | R9: 1786257 | S9: 1 | T9: 119.09 | U9: 2127.2535 | W9: שווי הוגן | X9: 0.0001482 | Y9: 0.0249104 | Z9: 0.00416
A10: 292 | B10: 292 | C10: ממשלת ישראל | D10: ממשל צמודה 1131 | E10: IL0011722209 | F10: צמוד למדד המחירים לצרכן בריבית קבועה | G10: ישראל | H10: ישראל | I10: TASE | J10: RF | K10: פנימי | L10: ILS | M10: 5.4 | N10: 30/11/2031 | O10: 0.001 | P10: 0.0165 | Q10: 0 | R10: 3000000 | S10: 1 | T10: 109.97 | U10: 3299.1 | W10: שווי הוגן | X10: 8.76e-05 | Y10: 0.0386329 | Z10: 0.0064517
A11: 292 | B11: 292 | C11: ממשלת ישראל | D11: ממשל שקלית 0432 | E11: IL0011806606 | F11: לא צמוד למדד המחירים לצרכן ריבית קבועה | G11: ישראל | H11: ישראל | I11: TASE | J11: RF | K11: פנימי | L11: ILS | M11: 5.63 | N11: 30/04/2032 | O11: 0.013 | P11: 0.0347 | Q11: 0 | R11: 12000000 | S11: 1 | T11: 88.94 | U11: 10672.8 | W11: שווי הוגן | X11: 0.000292 | Y11: 0.1249798 | Z11: 0.0208717
A12: 292 | B12: 292 | C12: ממשלת ישראל | D12: ממשל שקלית 0229 | E12: IL0011948028 | F12: לא צמוד למדד המחירים לצרכן ריבית קבועה | G12: ישראל | H12: ישראל | I12: TASE | J12: RF | K12: פנימי | L12: ILS | M12: 2.56 | N12: 28/02/2029 | O12: 0.0375 | P12: 0.033 | Q12: 0 | R12: 2000000 | S12: 1 | T12: 102.39 | U12: 2047.8 | W12: שווי הוגן | X12: 5.71e-05 | Y12: 0.02398 | Z12: 0.0040047
A13: 292 | B13: 292 | C13: ממשלת ישראל | D13: ממשל צמודה 1028 | E13: IL0011973265 | F13: צמוד למדד המחירים לצרכן בריבית קבועה | G13: ישראל | H13: ישראל | I13: TASE | J13: RF | K13: פנימי | L13: ILS | M13: 2.3 | N13: 31/10/2028 | O13: 0.011 | P13: 0.0168 | Q13: 0 | R13: 7500000 | S13: 1 | T13: 107.38 | U13: 8053.5 | W13: שווי הוגן | X13: 0.0002225 | Y13: 0.0943075 | Z13: 0.0157494
... A33: 292 | B33: 1455 | C33: ממשלת ישראל | D33: 07/31 3.75% ממשל שקלית | E33: IL0012337825 | F33: לא צמוד למדד המחירים לצרכן ריבית קבועה | G33: ישראל | H33: ישראל | I33: TASE | J33: RF | K33: פנימי | L33: ILS | M33: 4.64 | N33: 31/07/2031 | O33: 0.0375 | P33: 0.034 | Q33: 0 | R33: 220000 | S33: 1 | T33: 103.41 | U33: 227.502 | W33: שווי הוגן | X33: 1.55e-05 | Y33: 0.1166425 | Z33: 0.052956

Sheet ניירות ערך מסחריים
A1: מספר קופה/קרן/ח.פ. עבור חברת ביטוח | B1: מספר מסלול | C1: שם מנפיק | D1: מספר מנפיק | E1: סוג מספר מזהה מנפיק | F1: שם נייר ערך | G1: מספר נייר ערך | H1: סוג מספר נייר ערך | I1: מאפיין עיקרי | J1: ישראל/חו"ל | K1: מדינה לפי חשיפה כלכלית | L1: זירת מסחר | M1: ענף מסחר | N1: בעל עניין/צד קשור | O1: דירוג | P1: שם מדרג | Q1: דירוג נייר הערך/המנפיק | R1: מטבע פעילות | S1: מח"מ | T1: ריבית עוגן | U1: מועד פדיון | V1: שיעור ריבית | W1: תשואה לפדיון | X1: נחיתות חוזית | Y1: האם סווג כחוב בעייתי | Z1: ערך נקוב (יחידות) | AA1: שער חליפין | AB1: שער נייר הערך | AC1: סכום לקבל (במטבע הפעילות) | AD1: שווי הוגן (באלפי ש"ח) | AE1: עלות מופחתת (באלפי ש"ח) | AF1: עלות מופחתת (במטבע הפעילות) | AG1: השיטה שיושמה בדוח הכספי | AH1: שיעור מערך נקוב מונפק | AI1: שיעור מנכסי אפיק ההשקעה | AJ1: שיעור מסך נכסי ההשקעה
A2: 292 | B2: 292
A3: 292 | B3: 1454
A4: 292 | B4: 1455

Sheet איגרות חוב
A1: מספר קופה/קרן/ח.פ. עבור חברת ביטוח | B1: מספר מסלול | C1: שם מנפיק | D1: מספר מנפיק | E1: סוג מספר מזהה מנפיק | F1: שם נייר ערך | G1: מספר נייר ערך | H1: סוג מספר נייר ערך | I1: מאפיין עיקרי | J1: ישראל/חו"ל | K1: מדינה לפי חשיפה כלכלית | L1: סטאטוס סחירות | M1: זירת מסחר | N1: ענף מסחר | O1: בעל עניין/צד קשור | P1: דירוג | Q1: שם מדרג | R1: דירוג נייר הערך/המנפיק | S1: מטבע פעילות | T1: מח"מ | U1: מועד פדיון | V1: שיעור ריבית | W1: תשואה לפדיון | X1: נחיתות חוזית | Y1: האם סווג כחוב בעייתי | Z1: ערך נקוב (יחידות) | AA1: שער חליפין | AB1: שער נייר הערך | AC1: סכום לקבל (במטבע הפעילות) | AD1: שווי הוגן (באלפי ש"ח) | AE1: עלות מופחתת (באלפי ש"ח) | AF1: עלות מופחתת (במטבע הפעילות) | AG1: השיטה שיושמה בדוח הכספי | AH1: שיעור מערך נקוב מונפק | AI1: שיעור מנכסי אפיק ההשקעה | AJ1: שיעור מסך נכסי ההשקעה
A2: 292 | B2: 292 | C2: אזורים | D2: 520025990 | E2: ח.פ. | F2: אזורים אגח 14 | G2: IL0071504448 | H2: ISIN | I2: לא צמוד למדד המחירים לצרכן | J2: ישראל | K2: ישראל | L2: סחיר | M2: TASE | N2: בנייה | O2: לא | P2: A1.il | Q2: מידרוג Moodys | R2: נייר ערך | S2: ILS | T2: 1.32 | U2: 31/12/2028 | V2: 0.0255 | W2: 0.0414 | X2: החוב לא נחות | Y2: לא | Z2: 658564.2 | AA2: 1 | AB2: 98.01 | AC2: 0 | AD2: 645.45877 | AG2: שווי הוגן | AH2: 0.0012237 | AI2: 0.0053807 | AJ2: 0.0012623
A3: 292 | B3: 292 | C3: אפי נכסים | D3: 510560188 | E3: ח.פ. | F3: אפי נכסים אגח יז | G3: IL0012203837 | H3: ISIN | I3: לא צמוד למדד המחירים לצרכן | J3: ישראל | K3: ישראל | L3: סחיר | M3: TASE | N3: נדל"ן מניב בישראל | O3: לא | P3: A1.il | Q3: מידרוג Moodys | R3: נייר ערך | S3: ILS | T3: 4.01 | U3: 30/03/2033 | V3: 0.055 | W3: 0.042 | X3: החוב לא נחות | Y3: לא | Z3: 285140 | AA3: 1 | AB3: 106.82 | AC3: 0 | AD3: 304.58654 | AG3: שווי הוגן | AH3: 0.0002851 | AI3: 0.0025391 | AJ3: 0.0005956
A4: 292 | B4: 292 | C4: מגדל ביטוח גיוס הון בע"מ | D4: 513230029 | E4: ח.פ. | F4: מגדל הון אגח יב | G4: IL0011975732 | H4: ISIN | I4: לא צמוד למדד המחירים לצרכן | J4: ישראל | K4: ישראל | L4: סחיר | M4: TASE | N4: ביטוח | O4: לא | P4: A1.il | Q4: מידרוג Moodys | R4: נייר ערך | S4: ILS | T4: 4.86 | U4: 31/12/2036 | V4: 0.054 | W4: 0.0397 | X4: החוב לא נחות | Y4: לא | Z4: 1000000 | AA4: 1 | AB4: 107.2 | AC4: 0 | AD4: 1072 | AG4: שווי הוגן | AH4: 0.0017497 | AI4: 0.0089364 | AJ4: 0.0020964
A5: 292 | B5: 292 | C5: מגדל ביטוח גיוס הון בע"מ | D5: 513230029 | E5: ח.פ. | F5: מגדל הון אגח יג | G5: IL0012075136 | H5: ISIN | I5: לא צמוד למדד המחירים לצרכן | J5: ישראל | K5: ישראל | L5: סחיר | M5: TASE | N5: ביטוח | O5: לא | P5: A1.il | Q5: מידרוג Moodys | R5: נייר ערך | S5: ILS | T5: 5.54 | U5: 31/12/2037 | V5: 0.0607 | W5: 0.0401 | X5: החוב לא נחות | Y5: לא | Z5: 500000 | AA5: 1 | AB5: 111.89 | AC5: 0 | AD5: 559.45 | AG5: שווי הוגן | AH5: 0.000795 | AI5: 0.0046637 | AJ5: 0.0010941
A6: 292 | B6: 292 | C6: מגדל ביטוח גיוס הון בע"מ | D6: 513230029 | E6: ח.פ. | F6: מגדל הון אגח יד | G6: IL0012075219 | H6: ISIN | I6: לא צמוד למדד המחירים לצרכן | J6: ישראל | K6: ישראל | L6: סחיר | M6: TASE | N6: ביטוח | O6: לא | P6: A1.il | Q6: מידרוג Moodys | R6: נייר ערך | S6: ILS | T6: 6.23 | U6: 31/12/2038 | V6: 0.0607 | W6: 0.041 | X6: החוב לא נחות | Y6: לא | Z6: 2500000 | AA6: 1 | AB6: 112.9 | AC6: 0 | AD6: 2822.5 | AG6: שווי הוגן | AH6: 0.0039754 | AI6: 0.0235289 | AJ6: 0.0055197
A7: 292 | B7: 292 | C7: אאורה | D7: 520038274 | E7: ח.פ. | F7: אאורה אגח יז | G7: IL0011935801 | H7: ISIN | I7: צמוד למדד המחירים לצרכן | J7: ישראל | K7: ישראל | L7: סחיר | M7: TASE | N7: בנייה | O7: לא | P7: A2.il | Q7: מידרוג Moodys | R7: נייר ערך | S7: ILS | T7: 1.59 | U7: 31/01/2029 | V7: 0.0385 | W7: 0.0273 | X7: החוב לא נחות | Y7: לא | Z7: 800000 | AA7: 1 | AB7: 113.76 | AC7: 0 | AD7: 910.08 | AG7: שווי הוגן | AH7: 0.0033333 | AI7: 0.0075866 | AJ7: 0.0017797
A8: 292 | B8: 292 | C8: אאורה | D8: 520038274 | E8: ח.פ. | F8: אאורה אגח יט | G8: IL0012232968 | H8: ISIN | I8: לא צמוד למדד המחירים לצרכן | J8: ישראל | K8: ישראל | L8: סחיר | M8: TASE | N8: נדל"ן מניב בישראל | O8: לא | P8: A2.il | Q8: מידרוג Moodys | R8: נייר ערך | S8: ILS | T8: 4.08 | U8: 30/08/2032 | V8: 0.058 | W8: 0.0452 | X8: החוב לא נחות | Y8: לא | Z8: 2078470 | AA8: 1 | AB8: 107.43 | AC8: 0 | AD8: 2232.9003 | AG8: שווי הוגן | AH8: 0.0041569 | AI8: 0.0186139 | AJ8: 0.0043666
A9: 292 | B9: 292 | C9: אדגר השקעות | D9: 520035171 | E9: ח.פ. | F9: אדגר אגח יא | G9: IL0018202817 | H9: ISIN | I9: צמוד למדד המחירים לצרכן | J9: ישראל | K9: ישראל | L9: סחיר | M9: TASE | N9: נדל"ן מניב בחו"ל | O9: לא | P9: A2.il | Q9: מידרוג Moodys | R9: נייר ערך | S9: ILS | T9: 2.17 | U9: 31/03/2030 | V9: 0.0245 | W9: 0.0266 | X9: החוב לא נחות | Y9: לא | Z9: 1314782.6 | AA9: 1 | AB9: 119.32 | AC9: 0 | AD9: 1568.7986 | AG9: שווי הוגן | AH9: 0.0035173 | AI9: 0.0130778 | AJ9: 0.0030679
A10: 292 | B10: 292 | C10: אדגר השקעות | D10: 520035171 | E10: ח.פ. | F10: אדגר אגח יב | G10: IL0018203310 | H10: ISIN | I10: צמוד למדד המחירים לצרכן | J10: ישראל | K10: ישראל | L10: סחיר | M10: TASE | N10: נדל"ן מניב בחו"ל | O10: לא | P10: A2.il | Q10: מידרוג Moodys | R10: נייר ערך | S10: ILS | T10: 2.86 | U10: 31/03/2031 | V10: 0.0043 | W10: 0.0258 | X10: החוב לא נחות | Y10: לא | Z10: 1654880.3 | AA10: 1 | AB10: 109.73 | AC10: 0 | AD10: 1815.9001 | AG10: שווי הוגן | AH10: 0.003115 | AI10: 0.0151377 | AJ10: 0.0035512
A11: 292 | B11: 292 | C11: דלק קבוצה | D11: 520044322 | E11: ח.פ. | F11: דלק קבוצה אגח מא | G11: IL0012286188 | H11: ISIN | I11: לא צמוד למדד המחירים לצרכן | J11: ישראל | K11: ישראל | L11: סחיר | M11: TASE | N11: חיפושי נפט וגז | O11: לא | P11: A2.il | Q11: מידרוג Moodys | R11: נייר ערך | S11: ILS | T11: 5.8 | U11: 01/04/2035 | V11: 0.0568 | W11: 0.0451 | X11: החוב לא נחות | Y11: לא | Z11: 2000000 | AA11: 1 | AB11: 108.6 | AC11: 0 | AD11: 2172 | AG11: שווי הוגן | AH11: 0.0010438 | AI11: 0.0181062 | AJ11: 0.0042475
A12: 292 | B12: 292 | C12: סונול נדלן והשקעות בע"מ | D12: 510531775 | E12: ח.פ. | F12: סונול נדלן אגח א | G12: IL0012262734 | H12: ISIN | I12: צמוד למדד המחירים לצרכן | J12: ישראל | K12: ישראל | L12: סחיר | M12: TASE | N12: נדל"ן מניב בישראל | O12: לא | P12: A2.il | Q12: מידרוג Moodys | R12: נייר ערך | S12: ILS | T12: 4.23 | U12: 30/06/2034 | V12: 0.0317 | W12: 0.0249 | X12: החוב לא נחות | Y12: לא | Z12: 1000000 | AA12: 1 | AB12: 104.5 | AC12: 0 | AD12: 1045 | AG12: שווי הוגן | AH12: 0.0055555 | AI12: 0.0087113 | AJ12: 0.0020436
A13: 292 | B13: 292 | C13: פרשקובסקי | D13: 513817817 | E13: ח.פ. | F13: פרשקובסקי אגח טז | G13: IL0012234113 | H13: ISIN | I13: לא צמוד למדד המחירים לצרכן | J13: ישראל | K13: ישראל | L13: סחיר | M13: TASE | N13: נדל"ן מניב בישראל | O13: לא | P13: A2.il | Q13: מידרוג Moodys | R13: נייר ערך | S13: ILS | T13: 4.03 | U13: 31/12/2031 | V13: 0.0588 | W13: 0.0431 | X13: החוב לא נחות | Y13: לא | Z13: 2000000 | AA13: 1 | AB13: 106.54 | AC13: 0 | AD13: 2130.8 | AG13: שווי הוגן | AH13: 0.0066666 | AI13: 0.0177627 | AJ13: 0.004167
... A132: 292 | B132: 1455 | C132: צור | D132: 520025586 | E132: ח.פ. | F132: צור אגח יב | G132: IL0012057985 | H132: ISIN | I132: לא צמוד למדד המחירים לצרכן | J132: ישראל | K132: ישראל | L132: סחיר | M132: TASE | N132: השקעה ואחזקות | O132: לא | P132: NR | Q132: NR | R132: נייר ערך | S132: ILS | T132: 5.38 | U132: 01/07/2035 | V132: 0.076 | W132: 0.0522 | X132: החוב לא נחות | Y132: לא | Z132: 90000 | AA132: 1 | AB132: 113.43 | AC132: 0 | AD132: 102.087 | AG132: שווי הוגן | AH132: 0.0003529 | AI132: 0.0744148 | AJ132: 0.0237629
A133: 292 | B133: 292 | C133: MEXICO CITY AIRPORT | D133: 213800HAXQJNILQ2JJ24 | E133: LEI | F133: MEXCAT 4 1/4 10/31/26 | G133: USP6629MAA01 | H133: ISIN | I133: צמוד למט"ח | J133: חו"ל | K133: מקסיקו | L133: סחיר | M133: SGX | N133: Construction & Engineering | O133: לא | P133: Baa3 | Q133: MOODYS | R133: נייר ערך | S133: USD | T133: 0.33 | U133: 31/10/2026 | V133: 0.0425 | W133: 0.0464 | X133: החוב לא נחות | Y133: לא | Z133: 30456.85 | AA133: 2.978 | AB133: 100.58313 | AC133: 0 | AD133: 91.2294 | AG133: שווי הוגן | AH133: 3.04e-05 | AI133: 0.0007605 | AJ133: 0.0001784
A134: 292 | B134: 292 | C134: LEVIATHAN (לוויתן) | D134: 254900D9T8VKYVQNZ220 | E134: LEI | F134: LVIATH 6 1/2 06/30/27 | G134: IL0011677825 | H134: ISIN | I134: צמוד למט"ח | J134: חו"ל | K134: ישראל | L134: סחיר | M134: אחר | N134: Energy Equipment & Services | O134: לא | P134: BB- | Q134: S&P | R134: נייר ערך | S134: USD | T134: 0.98 | U134: 30/06/2027 | V134: 0.065 | W134: 0.0599 | X134: החוב לא נחות | Y134: לא | Z134: 500000 | AA134: 2.978 | AB134: 100.5241 | AC134: 0 | AD134: 1496.8039 | AG134: שווי הוגן | AH134: 0.0008333 | AI134: 0.0124776 | AJ134: 0.0029271
A135: 292 | B135: 292 | C135: TEVA | D135: 5493004T21MOAFINJP35 | E135: LEI | F135: TEVA 3.15 10/01/26 | G135: US88167AAE10 | H135: ISIN | I135: צמוד למט"ח | J135: חו"ל | K135: ישראל | L135: סחיר | M135: NYSE | N135: Pharmaceuticals | O135: לא | P135: BB+ | Q135: S&P | R135: נייר ערך | S135: USD | T135: 0.25 | U135: 01/10/2026 | V135: 0.0315 | W135: 0.0492 | X135: החוב לא נחות | Y135: לא | Z135: 700000 | AA135: 2.978 | AB135: 100.3415 | AC135: 0 | AD135: 2091.7189 | AG135: שווי הוגן | AH135: 0.0002 | AI135: 0.017437 | AJ135: 0.0040906
A136: 292 | B136: 292 | C136: ARGENTUM NETHERLANDS BV | D136: 724500RPEZI5VVQQWE89 | E136: LEI | F136: SRENVX 5 5/8 08/15/52 | G136: XS1423777215 | H136: ISIN | I136: צמוד למט"ח | J136: חו"ל | K136: הולנד | L136: סחיר | M136: ISE | N136: Insurance | O136: לא | P136: BBB+ | Q136: S&P | R136: נייר ערך | S136: USD | T136: 1.07 | U136: 15/08/2052 | V136: 0.05625 | W136: 0.0853 | X136: החוב לא נחות | Y136: לא | Z136: 100000 | AA136: 2.978 | AB136: 105.51113 | AC136: 0 | AD136: 314.21215 | AG136: שווי הוגן | AH136: 0.000125 | AI136: 0.0026193 | AJ136: 0.0006145

Sheet מניות מבכ ויהש
A1: מספר קופה/קרן/ח.פ. עבור חברת ביטוח | B1: מספר מסלול | C1: שם מנפיק | D1: מספר מנפיק | E1: סוג מספר מזהה מנפיק | F1: שם נייר ערך | G1: מספר נייר ערך | H1: סוג מספר נייר ערך | I1: מאפיין עיקרי | J1: ישראל/חו"ל | K1: מדינה לפי חשיפה כלכלית | L1: סטאטוס סחירות | M1: זירת מסחר | N1: ענף מסחר | O1: בעל עניין/צד קשור | P1: מטבע פעילות | Q1: ערך נקוב (יחידות) | R1: שער חליפין | S1: שער נייר הערך | T1: סכום לקבל (במטבע הפעילות) | U1: שווי הוגן (באלפי ש"ח) | V1: שיעור מערך נקוב מונפק | W1: שיעור מנכסי אפיק ההשקעה | X1: שיעור מסך נכסי ההשקעה
A2: 292 | B2: 292 | C2: לאומי | D2: 520018078 | E2: ח.פ. | F2: לאומי | G2: IL0006046119 | H2: ISIN | I2: מניות | J2: ישראל | K2: ישראל | L2: סחיר | M2: TASE | N2: בנקים | O2: לא | P2: ILS | Q2: 130253.8 | R2: 1 | S2: 6653 | T2: 0 | U2: 8665.7853 | V2: 8.85e-05 | W2: 0.0758773 | X2: 0.0169468
A3: 292 | B3: 292 | C3: פורמולה מערכות | D3: 520036690 | E3: ח.פ. | F3: 1 .פורמולה מ.ר | G3: IL0002560162 | H3: ISIN | I3: מניות | J3: ישראל | K3: ישראל | L3: סחיר | M3: TASE | N3: שרותי מידע | O3: לא | P3: ILS | Q3: 4500 | R3: 1 | S3: 30990 | T3: 0 | U3: 1394.55 | V3: 0.0002934 | W3: 0.0122106 | X3: 0.0027272
A4: 292 | B4: 292 | C4: כלל עסקי ביטוח | D4: 520036120 | E4: ח.פ. | F4: כלל עיסקי ביטוח | G4: IL0002240146 | H4: ISIN | I4: מניות | J4: ישראל | K4: ישראל | L4: סחיר | M4: TASE | N4: ביטוח | O4: לא | P4: ILS | Q4: 17385 | R4: 1 | S4: 22840 | T4: 0 | U4: 3970.734 | V4: 0.0002138 | W4: 0.0347676 | X4: 0.0077651
A5: 292 | B5: 292 | C5: ניו-מד אנרג'י- שותפות מוגבלת | D5: 550013098 | E5: מספר שותפות | F5: ניו-מד אנרג יהש | G5: IL0004750209 | H5: ISIN | I5: יחידות השתתפות | J5: ישראל | K5: ישראל | L5: סחיר | M5: TASE | N5: חיפושי נפט וגז | O5: לא | P5: ILS | Q5: 220678.85 | R5: 1 | S5: 1560 | T5: 0 | U5: 3442.5901 | V5: 0.000188 | W5: 0.0301432 | X5: 0.0067323
A6: 292 | B6: 292 | C6: רפק | D6: 520029505 | E6: ח.פ. | F6: רפק אלקטרוניקה 1 ש"ח ע"ש | G6: IL0007690261 | H6: ISIN | I6: מניות | J6: ישראל | K6: ישראל | L6: סחיר | M6: TASE | N6: שירותים | O6: לא | P6: ILS | Q6: 29406 | R6: 1 | S6: 9172 | T6: 0 | U6: 2697.1183 | V6: 0.0019047 | W6: 0.0236159 | X6: 0.0052745
A7: 292 | B7: 292 | C7: טבע | D7: 520013954 | E7: ח.פ. | F7: טבע | G7: IL0006290147 | H7: ISIN | I7: מניות | J7: ישראל | K7: ישראל | L7: סחיר | M7: TASE | N7: פארמה | O7: לא | P7: ILS | Q7: 64368 | R7: 1 | S7: 9837 | T7: 0 | U7: 6331.8802 | V7: 5.52e-05 | W7: 0.0554417 | X7: 0.0123826
A8: 292 | B8: 292 | C8: אוטונומוס | D8: 997891 | E8: מספר מנפיק | F8: אוטונומוס | G8: IL0010834195 | H8: ISIN | I8: מניות | J8: ישראל | K8: ישראל | L8: סחיר | M8: TASE | N8: השקעות בהייטק | O8: לא | P8: ILS | Q8: 45000 | R8: 1 | S8: 1028 | T8: 0 | U8: 462.6 | V8: 0.0061069 | W8: 0.0040505 | X8: 0.0009047
A9: 292 | B9: 292 | C9: הראל השקעות | D9: 520033986 | E9: ח.פ. | F9: הראל השקעות | G9: IL0005850180 | H9: ISIN | I9: מניות | J9: ישראל | K9: ישראל | L9: סחיר | M9: TASE | N9: ביטוח | O9: לא | P9: ILS | Q9: 20359 | R9: 1 | S9: 15660 | T9: 49.4723 | U9: 3237.6917 | V9: 9.9e-05 | W9: 0.0279159 | X9: 0.0062349
A10: 292 | B10: 292 | C10: אלביט מערכות | D10: 520043027 | E10: ח.פ. | F10: אלביט מערכות | G10: IL0010811243 | H10: ISIN | I10: מניות | J10: ישראל | K10: ישראל | L10: סחיר | M10: TASE | N10: ביטחוניות | O10: לא | P10: ILS | Q10: 1850 | R10: 1 | S10: 226000 | T10: 5.254 | U10: 4186.254 | V10: 3.94e-05 | W10: 0.0366087 | X10: 0.0081763
A11: 292 | B11: 292 | C11: אלוני חץ | D11: 520038506 | E11: ח.פ. | F11: אלוני-חץ | G11: IL0003900136 | H11: ISIN | I11: מניות | J11: ישראל | K11: ישראל | L11: סחיר | M11: TASE | N11: נדל"ן מניב בישראל | O11: לא | P11: ILS | Q11: 35000 | R11: 1 | S11: 3316 | T11: 0 | U11: 1160.6 | V11: 0.0001546 | W11: 0.0101622 | X11: 0.0022697
A12: 292 | B12: 292 | C12: פועלים | D12: 520000118 | E12: ח.פ. | F12: הפועלים | G12: IL0006625771 | H12: ISIN | I12: מניות | J12: ישראל | K12: ישראל | L12: סחיר | M12: TASE | N12: בנקים | O12: לא | P12: ILS | Q12: 116000 | R12: 1 | S12: 6859 | T12: 0 | U12: 7956.44 | V12: 8.86e-05 | W12: 0.0696663 | X12: 0.0155596
A13: 292 | B13: 292 | C13: מגדל ביטוח | D13: 520029984 | E13: ח.פ. | F13: מגדל | G13: IL0010811656 | H13: ISIN | I13: מניות | J13: ישראל | K13: ישראל | L13: סחיר | M13: TASE | N13: ביטוח | O13: לא | P13: ILS | Q13: 60816 | R13: 1 | S13: 1656 | T13: 0 | U13: 1007.113 | V13: 5.74e-05 | W13: 0.0088182 | X13: 0.0019695
... A38: 292 | B38: 292 | C38: שוב אנרגיה | D38: 510459928 | E38: ח.פ. | F38: שוב אנרגיה | G38: IL0011882425 | H38: ISIN | I38: מניות | J38: ישראל | K38: ישראל | L38: סחיר | M38: TASE | N38: Energy Equipment & Services | O38: לא | P38: ILS | Q38: 610000 | R38: 1 | S38: 404.8 | T38: 0 | U38: 2469.28 | V38: 0.0006227 | W38: 0.0216209 | X38: 0.0048289
A39: 292 | B39: 292 | C39: MICROSOFT | D39: INR2EJN1ERAN0W5ZP974 | E39: LEI | F39: MICROSOFT CORP | G39: US5949181045 | H39: ISIN | I39: מניות | J39: חו"ל | K39: ארה"ב | L39: סחיר | M39: NASDAQ | N39: Software | O39: לא | P39: USD | Q39: 1130 | R39: 2.978 | S39: 37302 | T39: 0 | U39: 1255.2645 | V39: 1e-07 | W39: 0.010991 | X39: 0.0024548
A40: 292 | B40: 292 | C40: BANK OF AMERICA | D40: 9DJT3UXIJIZJI4WXO774 | E40: LEI | F40: BANK OF AMERICA CORP | G40: US0605051046 | H40: ISIN | I40: מניות | J40: חו"ל | K40: ארה"ב | L40: סחיר | M40: NYSE | N40: Banks | O40: לא | P40: USD | Q40: 9500 | R40: 2.978 | S40: 5698 | T40: 0 | U40: 1612.0212 | V40: 1.3e-06 | W40: 0.0141148 | X40: 0.0031525
A41: 292 | B41: 292 | C41: APPLE COMPUTER INC | D41: 724500B37Q73O15GAW14 | E41: LEI | F41: APPLE INC | G41: US0378331005 | H41: ISIN | I41: מניות | J41: חו"ל | K41: ארה"ב | L41: סחיר | M41: אחר | N41: Technology Hardware Storage & Peripherals | O41: לא | P41: USD | Q41: 2740 | R41: 2.978 | S41: 28936 | T41: 0 | U41: 2361.0966 | V41: 1e-07 | W41: 0.0206737 | X41: 0.0046173
A42: 292 | B42: 292 | C42: Meta Platforms Inc | D42: BQ4BKCS1HXDV9HN80Z93 | E42: LEI | F42: META PLATFORMS INC-CLASS A | G42: US30303M1027 | H42: ISIN | I42: מניות | J42: חו"ל | K42: ארה"ב | L42: סחיר | M42: NASDAQ | N42: Wireless Telecommunication Services | O42: לא | P42: USD | Q42: 1150 | R42: 2.978 | S42: 56329 | T42: 0 | U42: 1929.0993 | V42: 5e-07 | W42: 0.0168911 | X42: 0.0037725
A43: 292 | B43: 292 | C43: ALPHABET | D43: 5493006MHB84DD0ZWV18 | E43: LEI | F43: ALPHABET INC-CL C | G43: US02079K1079 | H43: ISIN | I43: מניות | J43: חו"ל | K43: ארה"ב | L43: סחיר | M43: NASDAQ | N43: Wireless Telecommunication Services | O43: לא | P43: USD | Q43: 2510 | R43: 2.978 | S43: 35333 | T43: 0 | U43: 2641.064 | V43: 4e-07 | W43: 0.0231251 | X43: 0.0051648
A44: 292 | B44: 292 | C44: VBARE IBERIAN PROPERTIES | D44: VBARE IBERIAN PROPERTIES SOC | E44: LEI | F44: VBARE IBERIAN PROPERTIES SOC | G44: ES0105196002 | H44: ISIN | I44: מניות | J44: חו"ל | K44: ספרד | L44: סחיר | M44: BME | N44: Other | O44: לא | P44: EUR | Q44: 3848 | R44: 3.3945 | S44: 430 | T44: 0 | U44: 56.16675 | V44: 0.0010659 | W44: 0.0004918 | X44: 0.0001098
A45: 292 | B45: 292 | C45: ATERIAN INC | D45: 2138005GAARIE1JMP262 | E45: LEI | F45: ATERIAN INC | G45: US02156U2006 | H45: ISIN | I45: מניות | J45: חו"ל | K45: ארה"ב | L45: סחיר | M45: NASDAQ | N45: מסחר ושרותים | O45: לא | P45: USD | Q45: 219 | R45: 2.978 | S45: 132 | T45: 0 | U45: 0.86088 | V45: 2.01e-05 | W45: 7.5e-06 | X45: 1.7e-06
A46: 292 | B46: 1454 | C46: לאומי | D46: 520018078 | E46: ח.פ. | F46: לאומי | G46: IL0006046119 | H46: ISIN | I46: מניות | J46: ישראל | K46: ישראל | L46: סחיר | M46: TASE | N46: בנקים | O46: לא | P46: ILS | Q46: 6084 | R46: 1 | S46: 6653 | T46: 0 | U46: 404.76852 | V46: 4.1e-06 | W46: 0.0448256 | X46: 0.0239451
A47: 292 | B47: 1454 | C47: פורמולה מערכות | D47: 520036690 | E47: ח.פ. | F47: 1 .פורמולה מ.ר | G47: IL0002560162 | H47: ISIN | I47: מניות | J47: ישראל | K47: ישראל | L47: סחיר | M47: TASE | N47: שרותי מידע | O47: לא | P47: ILS | Q47: 600 | R47: 1 | S47: 30990 | T47: 0 | U47: 185.94 | V47: 3.91e-05 | W47: 0.0205917 | X47: 0.0109997
A48: 292 | B48: 1454 | C48: כלל עסקי ביטוח | D48: 520036120 | E48: ח.פ. | F48: כלל עיסקי ביטוח | G48: IL0002240146 | H48: ISIN | I48: מניות | J48: ישראל | K48: ישראל | L48: סחיר | M48: TASE | N48: ביטוח | O48: לא | P48: ILS | Q48: 1400 | R48: 1 | S48: 22840 | T48: 0 | U48: 319.76 | V48: 1.72e-05 | W48: 0.0354114 | X48: 0.0189162
A49: 292 | B49: 1454 | C49: ניו-מד אנרג'י- שותפות מוגבלת | D49: 550013098 | E49: מספר שותפות | F49: ניו-מד אנרג יהש | G49: IL0004750209 | H49: ISIN | I49: יחידות השתתפות | J49: ישראל | K49: ישראל | L49: סחיר | M49: TASE | N49: חיפושי נפט וגז | O49: לא | P49: ILS | Q49: 10000 | R49: 1 | S49: 1560 | T49: 0 | U49: 156 | V49: 8.5e-06 | W49: 0.017276 | X49: 0.0092286
A50: 292 | B50: 1454 | C50: רפק | D50: 520029505 | E50: ח.פ. | F50: רפק אלקטרוניקה 1 ש"ח ע"ש | G50: IL0007690261 | H50: ISIN | I50: מניות | J50: ישראל | K50: ישראל | L50: סחיר | M50: TASE | N50: שירותים | O50: לא | P50: ILS | Q50: 3500 | R50: 1 | S50: 9172 | T50: 0 | U50: 321.02 | V50: 0.0002267 | W50: 0.035551 | X50: 0.0189907
A51: 292 | B51: 1454 | C51: טבע | D51: 520013954 | E51: ח.פ. | F51: טבע | G51: IL0006290147 | H51: ISIN | I51: מניות | J51: ישראל | K51: ישראל | L51: סחיר | M51: TASE | N51: פארמה | O51: לא | P51: ILS | Q51: 1450 | R51: 1 | S51: 9837 | T51: 0 | U51: 142.6365 | V51: 1.2e-06 | W51: 0.0157961 | X51: 0.008438
A52: 292 | B52: 1454 | C52: הפניקס אחזקות | D52: 520017450 | E52: ח.פ. | F52: הפניקס | G52: IL0007670123 | H52: ISIN | I52: מניות | J52: ישראל | K52: ישראל | L52: סחיר | M52: TASE | N52: ביטוח | O52: לא | P52: ILS | Q52: 1300 | R52: 1 | S52: 16460 | T52: 0 | U52: 213.98 | V52: 5.1e-06 | W52: 0.023697 | X52: 0.0126585
A53: 292 | B53: 1454 | C53: אוטונומוס | D53: 997891 | E53: מספר מנפיק | F53: אוטונומוס | G53: IL0010834195 | H53: ISIN | I53: מניות | J53: ישראל | K53: ישראל | L53: סחיר | M53: TASE | N53: השקעות בהייטק | O53: לא | P53: ILS | Q53: 8308 | R53: 1 | S53: 1028 | T53: 0 | U53: 85.40624 | V53: 0.0011274 | W53: 0.0094582 | X53: 0.0050524
A54: 292 | B54: 1454 | C54: הראל השקעות | D54: 520033986 | E54: ח.פ. | F54: הראל השקעות | G54: IL0005850180 | H54: ISIN | I54: מניות | J54: ישראל | K54: ישראל | L54: סחיר | M54: TASE | N54: ביטוח | O54: לא | P54: ILS | Q54: 2340 | R54: 1 | S54: 15660 | T54: 5.6862 | U54: 372.1302 | V54: 1.13e-05 | W54: 0.0405814 | X54: 0.0216779
A55: 292 | B55: 1454 | C55: מזרחי טפחות | D55: 520000522 | E55: ח.פ. | F55: מזרחי טפחות | G55: IL0006954379 | H55: ISIN | I55: מניות | J55: ישראל | K55: ישראל | L55: סחיר | M55: TASE | N55: בנקים | O55: לא | P55: ILS | Q55: 200 | R55: 1 | S55: 19700 | T55: 0 | U55: 39.4 | V55: 7e-07 | W55: 0.0043633 | X55: 0.0023308
A56: 292 | B56: 1454 | C56: בינלאומי | D56: 520029083 | E56: ח.פ. | F56: הבנק הבינלאומי | G56: IL0005930388 | H56: ISIN | I56: מניות | J56: ישראל | K56: ישראל | L56: סחיר | M56: TASE | N56: בנקים | O56: לא | P56: ILS | Q56: 300 | R56: 1 | S56: 21090 | T56: 0 | U56: 63.27 | V56: 2.9e-06 | W56: 0.0070068 | X56: 0.0037429
A57: 292 | B57: 1454 | C57: אלביט מערכות | D57: 520043027 | E57: ח.פ. | F57: אלביט מערכות | G57: IL0010811243 | H57: ISIN | I57: מניות | J57: ישראל | K57: ישראל | L57: סחיר | M57: TASE | N57: ביטחוניות | O57: לא | P57: ILS | Q57: 90 | R57: 1 | S57: 226000 | T57: 0.2556 | U57: 203.6556 | V57: 1.9e-06 | W57: 0.0225253 | X57: 0.0120326
... A87: 292 | B87: 1454 | C87: שוב אנרגיה | D87: 510459928 | E87: ח.פ. | F87: שוב אנרגיה | G87: IL0011882425 | H87: ISIN | I87: מניות | J87: ישראל | K87: ישראל | L87: סחיר | M87: TASE | N87: Energy Equipment & Services | O87: לא | P87: ILS | Q87: 50000 | R87: 1 | S87: 404.8 | T87: 0 | U87: 202.4 | V87: 5.1e-05 | W87: 0.0224146 | X87: 0.0119735
A88: 292 | B88: 1454 | C88: MICROSOFT | D88: INR2EJN1ERAN0W5ZP974 | E88: LEI | F88: MICROSOFT CORP | G88: US5949181045 | H88: ISIN | I88: מניות | J88: חו"ל | K88: ארה"ב | L88: סחיר | M88: NASDAQ | N88: Software | O88: לא | P88: USD | Q88: 16 | R88: 2.978 | S88: 37302 | T88: 0 | U88: 17.77365 | V88: 0 | W88: 0.0019683 | X88: 0.0010514
A89: 292 | B89: 1454 | C89: APPLE COMPUTER INC | D89: 724500B37Q73O15GAW14 | E89: LEI | F89: APPLE INC | G89: US0378331005 | H89: ISIN | I89: מניות | J89: חו"ל | K89: ארה"ב | L89: סחיר | M89: אחר | N89: Technology Hardware Storage & Peripherals | O89: לא | P89: USD | Q89: 28 | R89: 2.978 | S89: 28936 | T89: 0 | U89: 24.12799 | V89: 0 | W89: 0.002672 | X89: 0.0014274
A90: 292 | B90: 1454 | C90: Meta Platforms Inc | D90: BQ4BKCS1HXDV9HN80Z93 | E90: LEI | F90: META PLATFORMS INC-CLASS A | G90: US30303M1027 | H90: ISIN | I90: מניות | J90: חו"ל | K90: ארה"ב | L90: סחיר | M90: NASDAQ | N90: Wireless Telecommunication Services | O90: לא | P90: USD | Q90: 14 | R90: 2.978 | S90: 56329 | T90: 0.0084 | U90: 23.5097 | V90: 0 | W90: 0.0026008 | X90: 0.0013893
A91: 292 | B91: 1454 | C91: טאואר | D91: 54930086ZSNXZOUX0C54 | E91: LEI | F91: TOWER SEMICOIND | G91: IL0010823792 | H91: ISIN | I91: מניות | J91: חו"ל | K91: ישראל | L91: סחיר | M91: NYSE | N91: Semiconductors & Semiconductor Equipment | O91: לא | P91: USD | Q91: 100 | R91: 2.978 | S91: 26064 | T91: 0 | U91: 77.61859 | V91: 8e-07 | W91: 0.0085958 | X91: 0.0045917
A92: 292 | B92: 1454 | C92: ALPHABET | D92: 5493006MHB84DD0ZWV18 | E92: LEI | F92: ALPHABET INC-CL C | G92: US02079K1079 | H92: ISIN | I92: מניות | J92: חו"ל | K92: ארה"ב | L92: סחיר | M92: NASDAQ | N92: Wireless Telecommunication Services | O92: לא | P92: USD | Q92: 20 | R92: 2.978 | S92: 35333 | T92: 0 | U92: 21.04433 | V92: 0 | W92: 0.0023305 | X92: 0.0012449
A93: 292 | B93: 1454 | C93: PLAYTECH | D93: 21380068TTB6Z9ZEU548 | E93: LEI | F93: PLAYTECH PLC | G93: IM00B7S9G985 | H93: ISIN | I93: מניות | J93: חו"ל | K93: בריטניה | L93: סחיר | M93: LSE | N93: Media | O93: לא | P93: GBP | Q93: 158 | R93: 3.9389 | S93: 318.6 | T93: 0 | U93: 1.98279 | V93: 5e-07 | W93: 0.0002196 | X93: 0.0001173
...

Sheet קרנות סל
A1: מספר קופה/קרן/ח.פ. עבור חברת ביטוח | B1: מספר מסלול | C1: שם מנפיק | D1: מספר מנפיק | E1: סוג מספר מזהה מנפיק | F1: שם נייר ערך | G1: מספר נייר ערך | H1: סוג מספר נייר ערך | I1: מאפיין עיקרי | J1: ישראל/חו"ל | K1: מדינה לפי חשיפה כלכלית | L1: זירת מסחר | M1: סיווג הקרן | N1: בעל עניין/צד קשור | O1: מטבע פעילות | P1: ערך נקוב (יחידות) | Q1: שער חליפין | R1: שער נייר הערך | S1: סכום לקבל (במטבע הפעילות) | T1: שווי הוגן (באלפי ש"ח) | U1: שיעור מערך נקוב מונפק | V1: שיעור מנכסי אפיק ההשקעה | W1: שיעור מסך נכסי ההשקעה
A2: 292 | B2: 292 | C2: מיטב ניהול קרנות נאמנות | D2: 513534974 | E2: .ח.פ | F2: מנוטרלת מט"ח 500 S&P )י4A)תכ. סל | G2: IL0011438178 | H2: ISIN | I2: עוקב אחר מדדי מניות בחו"ל | J2: ישראל | K2: ארה"ב | L2: TASE | M2: S&P 500 - מניות בחו"ל - מניות גיאוגרפי - מנוטרלת מט"ח-ארה"ב | N2: לא | O2: ILS | P2: 56000 | Q2: 1 | R2: 6428 | S2: 0 | T2: 3599.68 | U2: 0.0020758 | V2: 0.0255426 | W2: 0.0070395
A3: 292 | B3: 292 | C3: מיטב ניהול קרנות נאמנות | D3: 513534974 | E3: .ח.פ | F3: מנוטרלת מט"ח 100 N )י4A)תכ.סל | G3: IL0011437345 | H3: ISIN | I3: עוקב אחר מדדי מניות בחו"ל | J3: ישראל | K3: ארה"ב | L3: TASE | M3: NASDAQ 100 - מניות בחו"ל - מניות גיאוגרפי - מנוטרלת מט"ח-ארה"ב | N3: לא | O3: ILS | P3: 10731 | Q3: 1 | R3: 23590 | S3: 0 | T3: 2531.4429 | U3: 0.0017433 | V3: 0.0179626 | W3: 0.0049505
A4: 292 | B4: 292 | C4: הראל קרנות מדד | D4: 511776783 | E4: .ח.פ | F4: ממ 100 4A) NASDAQ) הרל.סל סל | G4: IL0011491037 | H4: ISIN | I4: עוקב אחר מדדי מניות בחו"ל | J4: ישראל | K4: ארה"ב | L4: TASE | M4: NASDAQ 100 - מניות בחו"ל - מניות גיאוגרפי - מנוטרלת מט"ח-ארה"ב | N4: לא | O4: ILS | P4: 7000 | Q4: 1 | R4: 25140 | S4: 0 | T4: 1759.8 | U4: 0.0022699 | V4: 0.0124872 | W4: 0.0034415
A5: 292 | B5: 292 | C5: מגדל קרנות נאמנות בע"מ | D5: 511303661 | E5: .ח.פ | F5: ) ת"א 904Aסל )mtf | G5: IL0011502593 | H5: ISIN | I5: עוקב אחר מדדי מניות בישראל | J5: ישראל | K5: ישראל | L5: TASE | M5: 90 מניות בארץ - מניות כללי-ת"א | N5: לא | O5: ILS | P5: 34000 | Q5: 1 | R5: 5265 | S5: 0 | T5: 1790.1 | U5: 0.0006823 | V5: 0.0127022 | W5: 0.0035007
A6: 292 | B6: 292 | C6: מגדל קרנות נאמנות בע"מ | D6: 511303661 | E6: .ח.פ | F6: מנוטרלת מט"חSPTF500.M | G6: IL0011505729 | H6: ISIN | I6: עוקב אחר מדדי מניות בחו"ל | J6: ישראל | K6: ארה"ב | L6: TASE | M6: S&P 500 - מניות בחו"ל - מניות גיאוגרפי - מנוטרלת מט"ח-ארה"ב | N6: לא | O6: ILS | P6: 187000 | Q6: 1 | R6: 9399 | S6: 0 | T6: 17576.13 | U6: 0.0072909 | V6: 0.1247166 | W6: 0.0343718
A7: 292 | B7: 292 | C7: הראל קרנות מדד | D7: 511776783 | E7: .ח.פ | F7: הרל.תל בונד שקלי 50 | G7: IL0011507139 | H7: ISIN | I7: עוקב אחר מדדים אחרים בישראל | J7: ישראל | K7: ישראל | L7: TASE | M7: אג"ח בארץ - חברות והמרה-תל בונד שקלי-תל בונד שקלי- אחר | N7: לא | O7: ILS | P7: 457413 | Q7: 1 | R7: 448.56 | S7: 0 | T7: 2051.7717 | U7: 0.0022078 | V7: 0.0145589 | W7: 0.0040124
A8: 292 | B8: 292 | C8: מגדל קרנות נאמנות בע"מ | D8: 511303661 | E8: .ח.פ | F8: (NASDAQ 100 (4D סל MTF | G8: IL0011813875 | H8: ISIN | I8: עוקב אחר מדדי מניות בחו"ל | J8: ישראל | K8: ארה"ב | L8: TASE | M8: NASDAQ 100 - מניות בחו"ל - מניות גיאוגרפי - חשופת מט"ח-ארה"ב | N8: לא | O8: ILS | P8: 25000 | Q8: 1 | R8: 6265 | S8: 0 | T8: 1566.25 | U8: 0.0026339 | V8: 0.0111138 | W8: 0.0030629
A9: 292 | B9: 292 | C9: מגדל קרנות נאמנות בע"מ | D9: 511303661 | E9: .ח.פ | F9: ) מנוטרלת מטחNASDAQ 100 (4A סל MTF | G9: IL0011814451 | H9: ISIN | I9: עוקב אחר מדדי מניות בחו"ל | J9: ישראל | K9: ארה"ב | L9: TASE | M9: NASDAQ 100 - מניות בחו"ל - מניות גיאוגרפי - מנוטרלת מט"ח-ארה"ב | N9: לא | O9: ILS | P9: 130000 | Q9: 1 | R9: 11620 | S9: 0 | T9: 15106 | U9: 0.0140812 | V9: 0.1071891 | W9: 0.0295412
A10: 292 | B10: 292 | C10: מגדל קרנות נאמנות בע"מ | D10: 511303661 | E10: .ח.פ | F10: 10 t סל אינדקס שבבים ארה"ב MTF | G10: IL0012079013 | H10: ISIN | I10: עוקב אחר מדדי מניות בחו"ל | J10: ישראל | K10: ארה"ב | L10: TASE | M10: Technology מניות בחו"ל - מניות לפי ענפים בחו"ל - חשופת מט"ח-ארה"ב- מניות | N10: לא | O10: ILS | P10: 35000 | Q10: 1 | R10: 5135 | S10: 0 | T10: 1797.25 | U10: 0.0073893 | V10: 0.0127529 | W10: 0.0035147
A11: 292 | B11: 292 | C11: מגדל קרנות נאמנות | D11: 511303661 | E11: .ח.פ | F11: US Topure10 P Cyb ) אינדקס4D) סל MTF | G11: IL0012175613 | H11: ISIN | I11: עוקב אחר מדדי מניות בחו"ל | J11: ישראל | K11: ארה"ב | L11: TASE | M11: Equity Funds | N11: לא | O11: ILS | P11: 30000 | Q11: 1 | R11: 2229 | S11: 0 | T11: 668.7 | U11: 0.0344761 | V11: 0.004745 | W11: 0.0013077
A12: 292 | B12: 292 | C12: מגדל קרנות נאמנות | D12: 511303661 | E12: .ח.פ | F12: IMTF סל (Indxx Top 10 US Oil Industry (4D | G12: IL0012216706 | H12: ISIN | I12: עוקב אחר מדדי מניות בחו"ל | J12: ישראל | K12: ארה"ב | L12: TASE | M12: Equity Funds | N12: לא | O12: ILS | P12: 40000 | Q12: 1 | R12: 2574 | S12: 0 | T12: 1029.6 | U12: 0.1123819 | V12: 0.0073058 | W12: 0.0020135
A13: 292 | B13: 292 | C13: מגדל קרנות נאמנות בע"מ | D13: 511303661 | E13: .ח.פ | F13: ביטחוניות ישראל Indxx )י4A) סל MTF | G13: IL0012367517 | H13: ISIN | I13: עוקב אחר מדדי מניות בישראל | J13: ישראל | K13: ישראל | L13: TASE | M13: Equity Funds | N13: לא | O13: ILS | P13: 14000 | Q13: 1 | R13: 2856 | S13: 0 | T13: 399.84 | U13: 0.0440331 | V13: 0.0028372 | W13: 0.0007819
... A15: 292 | B15: 292 | C15: מגדל קרנות נאמנות בע"מ | D15: 511303661 | E15: .ח.פ | F15: ביטחוניות ישראל Indxx )י4A) סל MTF | G15: IL0012379165 | H15: ISIN | I15: עוקב אחר מדדי מניות בחו"ל | J15: ישראל | K15: ארה"ב | L15: TASE | M15: Equity Funds | N15: לא | O15: ILS | P15: 80000 | Q15: 1 | R15: 3166 | S15: 0 | T15: 2532.8 | U15: 0.0658851 | V15: 0.0179722 | W15: 0.0049531
A16: 292 | B16: 292 | C16: SPDR TRUST | D16: 549300NZAMSJ8FXPQQ63 | E16: LEI | F16: SPDR S&P 500 ETF TRUST | G16: US78462F1030 | H16: ISIN | I16: עוקב אחר מדדי מניות בחו"ל | J16: חו"ל | K16: ארה"ב | L16: NYSE | M16: Equity Funds | N16: לא | O16: USD | P16: 15038 | Q16: 2.978 | R16: 74677 | S16: 21.3174 | T16: 33506.207 | U16: 1.41e-05 | V16: 0.2373027 | W16: 0.0654004
A17: 292 | B17: 292 | C17: SPDR TRUST | D17: 549300BR5T0JNM2MW070 | E17: LEI | F17: TECHNOLOGY SELECT SECT SPDR | G17: US81369Y8030 | H17: ISIN | I17: עוקב אחר מדדי מניות בחו"ל | J17: חו"ל | K17: ארה"ב | L17: אחר | M17: Equity Funds | N17: לא | O17: USD | P17: 4732 | Q17: 2.978 | R17: 19052 | S17: 0 | T17: 2684.788 | U17: 7.2e-06 | V17: 0.0190507 | W17: 0.0052504
A18: 292 | B18: 292 | C18: ISHARES INC | D18: 5493004SPI3IF1GDIR85 | E18: LEI | F18: ISHARES SEMICONDUCTOR ETF | G18: US4642875235 | H18: ISIN | I18: עוקב אחר מדדי מניות בחו"ל | J18: חו"ל | K18: ארה"ב | L18: NYSE | M18: Equity Funds | N18: לא | O18: USD | P18: 4700 | Q18: 2.978 | R18: 64076 | S18: 0 | T18: 8968.4614 | U18: 6.52e-05 | V18: 0.0636384 | W18: 0.0175387
A19: 292 | B19: 292 | C19: SPDR TRUST | D19: 549300HQI51T8KP6U325 | E19: LEI | F19: INDUSTRIAL SELECT SECT SPDR | G19: US81369Y7040 | H19: ISIN | I19: עוקב אחר מדדי מניות בחו"ל | J19: חו"ל | K19: ארה"ב | L19: NYSE | M19: Equity Funds | N19: לא | O19: USD | P19: 6258 | Q19: 2.978 | R19: 18523 | S19: 0 | T19: 3452.0063 | U19: 3.44e-05 | V19: 0.0244947 | W19: 0.0067507
A20: 292 | B20: 292 | C20: VANGUARD GROUP | D20: 12WZ1W76P8QD4VJ6OB47 | E20: LEI | F20: VANGUARD S&P 500 ETF | G20: US9229083632 | H20: ISIN | I20: עוקב אחר מדדי מניות בחו"ל | J20: חו"ל | K20: ארה"ב | L20: NYSE | M20: Equity Funds | N20: לא | O20: USD | P20: 12521 | Q20: 2.978 | R20: 68681 | S20: 0 | T20: 25609.454 | U20: 8.7e-06 | V20: 0.1817194 | W20: 0.0500817
A21: 292 | B21: 292 | C21: INVESCO | D21: 549300TKJ3EA6QHM7D23 | E21: LEI | F21: INVESCO NASDAQ 100 ETF | G21: US46138G6492 | H21: ISIN | I21: עוקב אחר מדדי מניות בחו"ל | J21: חו"ל | K21: ארה"ב | L21: NASDAQ | M21: Equity Funds | N21: לא | O21: USD | P21: 2000 | Q21: 2.978 | R21: 30297 | S21: 0 | T21: 1804.4893 | U21: 5.9e-06 | V21: 0.0128043 | W21: 0.0035288
A22: 292 | B22: 292 | C22: SPDR TRUST | D22: 549300D2BO7L1J2SO973 | E22: LEI | F22: SPDR PORT SHRT TRM CORP BND | G22: US78464A4748 | H22: ISIN | I22: עוקב אחר מדדים אחרים בחו"ל | J22: חו"ל | K22: ארה"ב | L22: NYSE | M22: Bond/Fixed Income Funds | N22: לא | O22: USD | P22: 20000 | Q22: 2.978 | R22: 3001 | S22: 0 | T22: 1787.3956 | U22: 5.66e-05 | V22: 0.012683 | W22: 0.0034954
A23: 292 | B23: 292 | C23: SPDR TRUST | D23: 549300NHX93RBUEHCD54 | E23: LEI | F23: SPDR BBG 0-3 US CORPORATE | G23: IE00BC7GZX26 | H23: ISIN | I23: עוקב אחר מדדים אחרים בחו"ל | J23: חו"ל | K23: ארה"ב | L23: LSE | M23: Bond/Fixed Income Funds | N23: לא | O23: USD | P23: 40000 | Q23: 2.978 | R23: 4996.5 | S23: 0 | T23: 5951.8308 | U23: 0.0174333 | V23: 0.042233 | W23: 0.0116394
A24: 292 | B24: 292 | C24: RANGE RESOURCES | D24: H3Y3WLYCX0BTO1TRW162 | E24: LEI | F24: RANGE NUCLEAR RENAISSANCE INDE | G24: US3015054758 | H24: ISIN | I24: עוקב אחר מדדי מניות בחו"ל | J24: חו"ל | K24: ארה"ב | L24: NYSE | M24: Equity Funds | N24: לא | O24: USD | P24: 3000 | Q24: 2.978 | R24: 6816 | S24: 0 | T24: 608.94144 | U24: 0.0002442 | V24: 0.0043209 | W24: 0.0011908
A25: 292 | B25: 1454 | C25: קסם קרנות נאמנות | D25: 510938608 | E25: .ח.פ | F25: 60SME ) ת"א4A) ETF קסם | G25: IL0011465395 | H25: ISIN | I25: עוקב אחר מדדי מניות בישראל | J25: ישראל | K25: ישראל | L25: TASE | M25: SME60 מניות בארץ - מניות כללי-ת"א | N25: לא | O25: ILS | P25: 886 | Q25: 1 | R25: 11480 | S25: 0 | T25: 101.7128 | U25: 0.0005506 | V25: 0.013504 | W25: 0.0060171
A26: 292 | B26: 1454 | C26: קסם קרנות נאמנות | D26: 510938608 | E26: .ח.פ | F26: ממNASDAQ 100 (4A) ETF.קסם | G26: IL0011466120 | H26: ISIN | I26: עוקב אחר מדדי מניות בחו"ל | J26: ישראל | K26: ארה"ב | L26: TASE | M26: NASDAQ 100 - מניות בחו"ל - מניות גיאוגרפי - מנוטרלת מט"ח-ארה"ב | N26: לא | O26: ILS | P26: 1900 | Q26: 1 | R26: 24220 | S26: 0 | T26: 460.18 | U26: 0.0003383 | V26: 0.0610963 | W26: 0.0272231
A27: 292 | B27: 1454 | C27: הראל קרנות מדד | D27: 511776783 | E27: .ח.פ | F27: ממ 100 4A) NASDAQ) הרל.סל סל | G27: IL0011491037 | H27: ISIN | I27: עוקב אחר מדדי מניות בחו"ל | J27: ישראל | K27: ארה"ב | L27: TASE | M27: NASDAQ 100 - מניות בחו"ל - מניות גיאוגרפי - מנוטרלת מט"ח-ארה"ב | N27: לא | O27: ILS | P27: 5595 | Q27: 1 | R27: 25140 | S27: 0 | T27: 1406.583 | U27: 0.0018143 | V27: 0.1867464 | W27: 0.0832099
A28: 292 | B28: 1454 | C28: הראל קרנות מדד | D28: 511776783 | E28: .ח.פ | F28: מנוטרלת מט"ח .500SPלהר | G28: IL0011491375 | H28: ISIN | I28: עוקב אחר מדדי מניות בחו"ל | J28: ישראל | K28: ארה"ב | L28: TASE | M28: S&P 500 - מניות בחו"ל - מניות גיאוגרפי - מנוטרלת מט"ח-ארה"ב | N28: לא | O28: ILS | P28: 2380 | Q28: 1 | R28: 7085 | S28: 0 | T28: 168.623 | U28: 0.0001286 | V28: 0.0223874 | W28: 0.0099753
A29: 292 | B29: 1454 | C29: קסם קרנות נאמנות | D29: 510938608 | E29: .ח.פ | F29: 500 s&p.קסם | G29: IL0011464711 | H29: ISIN | I29: עוקב אחר מדדי מניות בחו"ל | J29: ישראל | K29: ארה"ב | L29: TASE | M29: S&P 500 - מניות בחו"ל - מניות גיאוגרפי - חשופת מט"ח-ארה"ב | N29: לא | O29: ILS | P29: 700 | Q29: 1 | R29: 24520 | S29: 0 | T29: 171.64 | U29: 3.06e-05 | V29: 0.022788 | W29: 0.0101538
A30: 292 | B30: 1454 | C30: פסגות קרנות נאמנות בע"מ | D30: 513765339 | E30: .ח.פ | F30: איביאי סל SP 500 | G30: IL0011481624 | H30: ISIN | I30: עוקב אחר מדדי מניות בחו"ל | J30: ישראל | K30: ארה"ב | L30: TASE | M30: S&P 500 - מניות בחו"ל - מניות גיאוגרפי - חשופת מט"ח-ארה"ב | N30: לא | O30: ILS | P30: 1500 | Q30: 1 | R30: 21940 | S30: 0 | T30: 329.1 | U30: 8.47e-05 | V30: 0.0436933 | W30: 0.0194687
A31: 292 | B31: 1454 | C31: מגדל קרנות נאמנות בע"מ | D31: 511303661 | E31: .ח.פ | F31: מנוטרלת מט"חSPTF500.M | G31: IL0011505729 | H31: ISIN | I31: עוקב אחר מדדי מניות בחו"ל | J31: ישראל | K31: ארה"ב | L31: TASE | M31: S&P 500 - מניות בחו"ל - מניות גיאוגרפי - מנוטרלת מט"ח-ארה"ב | N31: לא | O31: ILS | P31: 7000 | Q31: 1 | R31: 9399 | S31: 0 | T31: 657.93 | U31: 0.0002729 | V31: 0.0873507 | W31: 0.0389215
A32: 292 | B32: 1454 | C32: מור ניהול קרנות נאמנות | D32: 514884485 | E32: .ח.פ | F32: ) מנוטרלת מטחS&P 500(4A מור סל | G32: IL0011658288 | H32: ISIN | I32: עוקב אחר מדדי מניות בחו"ל | J32: ישראל | K32: ארה"ב | L32: TASE | M32: S&P 500 - מניות בחו"ל - מניות גיאוגרפי - מנוטרלת מט"ח-ארה"ב | N32: לא | O32: ILS | P32: 800 | Q32: 1 | R32: 11540 | S32: 0 | T32: 92.32 | U32: 2.83e-05 | V32: 0.012257 | W32: 0.0054614
A33: 292 | B33: 1454 | C33: מגדל קרנות נאמנות בע"מ | D33: 511303661 | E33: .ח.פ | F33: ) מנוטרלת מטחNASDAQ 100 (4A סל MTF | G33: IL0011814451 | H33: ISIN | I33: עוקב אחר מדדי מניות בחו"ל | J33: ישראל | K33: ארה"ב | L33: TASE | M33: NASDAQ 100 - מניות בחו"ל - מניות גיאוגרפי - מנוטרלת מט"ח-ארה"ב | N33: לא | O33: ILS | P33: 1500 | Q33: 1 | R33: 11620 | S33: 0 | T33: 174.3 | U33: 0.0001624 | V33: 0.0231411 | W33: 0.0103111
A34: 292 | B34: 1454 | C34: מגדל קרנות נאמנות | D34: 511303661 | E34: .ח.פ | F34: TOPECH 10 T ) אינדקס4D) סל MTF | G34: IL0012001959 | H34: ISIN | I34: עוקב אחר מדדי מניות בחו"ל | J34: ישראל | K34: ארה"ב | L34: TASE | M34: מניות בחו"ל - מניות לפי ענפים בחו"ל - חשופת מט"ח-ענפים אחרים | N34: לא | O34: ILS | P34: 6000 | Q34: 1 | R34: 3072 | S34: 0 | T34: 184.32 | U34: 0.0031688 | V34: 0.0244714 | W34: 0.0109039
A35: 292 | B35: 1454 | C35: מגדל קרנות נאמנות בע"מ | D35: 511303661 | E35: .ח.פ | F35: 10 t סל אינדקס שבבים ארה"ב MTF | G35: IL0012079013 | H35: ISIN | I35: עוקב אחר מדדי מניות בחו"ל | J35: ישראל | K35: ארה"ב | L35: TASE | M35: Technology מניות בחו"ל - מניות לפי ענפים בחו"ל - חשופת מט"ח-ארה"ב- מניות | N35: לא | O35: ILS | P35: 12000 | Q35: 1 | R35: 5135 | S35: 0 | T35: 616.2 | U35: 0.0025335 | V35: 0.0818104 | W35: 0.0364528
A36: 292 | B36: 1454 | C36: איביאי ניהול קרנות נאמנות | D36: 510791031 | E36: .ח.פ | F36: איביאי סל Nasdaq 100 ממ | G36: IL0012004433 | H36: ISIN | I36: עוקב אחר מדדי מניות בחו"ל | J36: ישראל | K36: ארה"ב | L36: TASE | M36: NASDAQ 100 - מניות בחו"ל - מניות גיאוגרפי - מנוטרלת מט"ח-ארה"ב | N36: לא | O36: ILS | P36: 9000 | Q36: 1 | R36: 8577 | S36: 0 | T36: 771.93 | U36: 0.0011713 | V36: 0.1024861 | W36: 0.0456654
... A39: 292 | B39: 1454 | C39: מגדל קרנות נאמנות בע"מ | D39: 511303661 | E39: .ח.פ | F39: ביטחוניות ישראל Indxx )י4A) סל MTF | G39: IL0012379165 | H39: ISIN | I39: עוקב אחר מדדי מניות בחו"ל | J39: ישראל | K39: ארה"ב | L39: TASE | M39: Equity Funds | N39: לא | O39: ILS | P39: 7500 | Q39: 1 | R39: 3166 | S39: 0 | T39: 237.45 | U39: 0.0061767 | V39: 0.0315253 | W39: 0.0140469
A40: 292 | B40: 1454 | C40: SPDR TRUST | D40: 549300WRV3OCU6OV1X49 | E40: LEI | F40: SPDR S&P BANK ETF | G40: US78464A7972 | H40: ISIN | I40: עוקב אחר מדדי מניות בחו"ל | J40: חו"ל | K40: ארה"ב | L40: NYSE | M40: Equity Funds | N40: לא | O40: USD | P40: 40 | Q40: 2.978 | R40: 6822 | S40: 0 | T40: 8.12636 | U40: 1.7e-06 | V40: 0.0010789 | W40: 0.0004807
A41: 292 | B41: 1454 | C41: SPDR TRUST | D41: 549300Y12KQ6ZG08NY28 | E41: LEI | F41: FINANCIAL SELECT SECTOR SPDR | G41: US81369Y6059 | H41: ISIN | I41: עוקב אחר מדדי מניות בחו"ל | J41: חו"ל | K41: ארה"ב | L41: NYSE | M41: Equity Funds | N41: לא | O41: USD | P41: 450 | Q41: 2.978 | R41: 5361 | S41: 0 | T41: 71.84276 | U41: 4e-07 | V41: 0.0095383 | W41: 0.00425
A42: 292 | B42: 1454 | C42: SPDR TRUST | D42: 54930064FLK0RD4TRU75 | E42: LEI | F42: ENERGY SELECT SECTOR SPDR | G42: US81369Y5069 | H42: ISIN | I42: עוקב אחר מדדי מניות בחו"ל | J42: חו"ל | K42: ארה"ב | L42: אחר | M42: Equity Funds | N42: לא | O42: USD | P42: 440 | Q42: 2.978 | R42: 5311 | S42: 0 | T42: 69.59109 | U42: 6e-07 | V42: 0.0092393 | W42: 0.0041168
A43: 292 | B43: 1454 | C43: INVESCO | D43: 549300VY6FEJBCIMET58 | E43: LEI | F43: INVESCO QQQ TRUST SERIES 1 | G43: US46090E1038 | H43: ISIN | I43: עוקב אחר מדדי מניות בחו"ל | J43: חו"ל | K43: ארה"ב | L43: NYSE | M43: Equity Funds | N43: לא | O43: USD | P43: 145 | Q43: 2.978 | R43: 73640 | S43: 0.0888 | T43: 318.24933 | U43: 2e-07 | V43: 0.0422176 | W43: 0.0188112
...

Sheet קרנות נאמנות
A1: מספר קופה/קרן/ח.פ. עבור חברת ביטוח | B1: מספר מסלול | C1: שם מנפיק | D1: מספר מנפיק | E1: סוג מספר מזהה מנפיק | F1: שם נייר ערך | G1: מספר נייר ערך | H1: סוג מספר נייר ערך | I1: מאפיין עיקרי | J1: ישראל/חו"ל | K1: מדינה לפי חשיפה כלכלית | L1: סטאטוס סחירות | M1: זירת מסחר | N1: סיווג הקרן | O1: בעל עניין/צד קשור | P1: מטבע פעילות | Q1: ערך נקוב (יחידות) | R1: שער חליפין | S1: שער נייר הערך | T1: שווי הוגן (באלפי ש"ח) | U1: שיעור מערך נקוב מונפק | V1: שיעור מנכסי אפיק ההשקעה | W1: שיעור מסך נכסי ההשקעה
A2: 292 | B2: 292 | C2: UNION BANCAIRE | D2: RARWUTN1HKEHIBESC931 | E2: LEI | F2: UBAM GLOB HIGH YLD SOL-ICUSD | G2: LU0569863243 | H2: ISIN | I2: אג"ח קונצרני | J2: חו"ל | K2: ארה"ב | L2: סחיר | M2: אחר | N2: Bond/Fixed Income Funds | O2: לא | P2: USD | Q2: 1149.89 | R2: 2.978 | S2: 28005 | T2: 958.99549 | U2: 0.0002425 | V2: 0.5887729 | W2: 0.0018754
A3: 292 | B3: 292 | C3: DIAMOND CAPITAL MANAGMENT | D3: 549300V8KQKJ3DEPEU41 | E3: LEI | F3: DIAMOND CAP-TOWER GL.HI.Y.BD(U | G3: IE00BYWJ7569 | H3: ISIN | I3: אג"ח קונצרני | J3: חו"ל | K3: גלובלי | L3: סחיר | M3: ISE | N3: Bond/Fixed Income Funds | O3: לא | P3: USD | Q3: 843.34 | R3: 2.978 | S3: 26670 | T3: 669.80812 | U3: 0.0062875 | V3: 0.4112271 | W3: 0.0013099
A4: 292 | B4: 1454
A5: 292 | B5: 1455

Sheet כתבי אופציה
A1: מספר קופה/קרן/ח.פ. עבור חברת ביטוח | B1: מספר מסלול | C1: שם מנפיק | D1: מספר מנפיק | E1: סוג מספר מזהה מנפיק | F1: שם נייר ערך | G1: מספר נייר ערך | H1: סוג מספר נייר ערך | I1: ישראל/חו"ל | J1: מדינה לפי חשיפה כלכלית | K1: סטאטוס סחירות | L1: זירת מסחר | M1: נכס בסיס (כתב אופציה) | N1: ענף מסחר | O1: תאריך פקיעה | P1: בעל עניין/צד קשור | Q1: מטבע פעילות | R1: שער מימוש | S1: יחס המרה | T1: ערך נקוב (יחידות) | U1: שער חליפין | V1: שער נייר הערך | W1: שווי הוגן (באלפי ש"ח) | X1: שיעור מנכסי אפיק ההשקעה | Y1: שיעור מסך נכסי ההשקעה
A2: 292 | B2: 292
A3: 292 | B3: 1454
A4: 292 | B4: 1455

Sheet אופציות
A1: מספר קופה/קרן/ח.פ. עבור חברת ביטוח | B1: מספר מסלול | C1: שם מנפיק | D1: מספר מנפיק | E1: סוג מספר מזהה מנפיק | F1: שם נייר ערך | G1: מספר נייר ערך | H1: סוג מספר נייר ערך | I1: מאפיין עיקרי | J1: ישראל/חו"ל | K1: מדינה לפי חשיפה כלכלית | L1: זירת מסחר | M1: ענף מסחר | N1: נכס בסיס | O1: תאריך פקיעה | P1: בעל עניין/צד קשור | Q1: מטבע פעילות | R1: שער מימוש | S1: ערך נקוב (יחידות) | T1: שער חליפין | U1: שער נייר הערך | V1: שווי הוגן (באלפי ש"ח) | W1: שיעור מנכסי אפיק ההשקעה | X1: שיעור מסך נכסי ההשקעה
A2: 292 | B2: 292
A3: 292 | B3: 1454
A4: 292 | B4: 1455

Sheet חוזים עתידיים
A1: מספר קופה/קרן/ח.פ. עבור חברת ביטוח | B1: מספר מסלול | C1: שם מנפיק | D1: מספר מנפיק | E1: סוג מספר מזהה מנפיק | F1: שם נייר ערך | G1: מספר נייר ערך | H1: סוג מספר נייר ערך | I1: ישראל/חו"ל | J1: מדינה לפי חשיפה כלכלית | K1: זירת מסחר | L1: נכס בסיס | M1: בעל עניין/צד קשור | N1: מטבע פעילות | O1: ערך נקוב (יחידות) | P1: שער חליפין | Q1: שער נייר הערך | R1: שווי הוגן (באלפי ש"ח) | S1: שיעור מנכסי אפיק ההשקעה | T1: שיעור מסך נכסי ההשקעה
A2: 292 | B2: 292
A3: 292 | B3: 1454
A4: 292 | B4: 1455

Sheet מוצרים מובנים
A1: מספר קופה/קרן/ח.פ. עבור חברת ביטוח | B1: מספר מסלול | C1: שם מנפיק | D1: מספר מנפיק | E1: סוג מספר מזהה מנפיק | F1: שם נייר ערך | G1: מספר נייר ערך | H1: סוג מספר נייר ערך | I1: מאפיין עיקרי | J1: ישראל/חו"ל | K1: מדינה לפי חשיפה כלכלית | L1: סטאטוס סחירות | M1: זירת מסחר | N1: נכס בסיס | O1: בעל עניין/צד קשור | P1: מח"מ | Q1: שיעור ריבית | R1: תשואה לפדיון | S1: דירוג | T1: שם מדרג | U1: דירוג נייר הערך/המנפיק | V1: מטבע פעילות | W1: ערך נקוב (יחידות) | X1: שער חליפין | Y1: שער נייר הערך | Z1: שווי הוגן (באלפי ש"ח) | AA1: שיעור מנכסי אפיק ההשקעה | AB1: שיעור מסך נכסי ההשקעה
A2: 292 | B2: 292
A3: 292 | B3: 1454
A4: 292 | B4: 1455

Sheet לא סחיר איגרות חוב ממשלתיות
A1: מספר קופה/קרן/ח.פ. עבור חברת ביטוח | B1: מספר מסלול | C1: שם מנפיק | D1: שם נייר ערך | E1: מספר נייר ערך | F1: סוג מספר נייר ערך | G1: מאפיין עיקרי | H1: ישראל/חו"ל | I1: מדינה לפי חשיפה כלכלית | J1: תאריך רכישה | K1: דירוג | L1: שם מדרג | M1: מטבע פעילות | N1: מח"מ | O1: מועד פדיון | P1: שיעור ריבית | Q1: תשואה לפדיון | R1: ערך נקוב (יחידות) | S1: שער חליפין | T1: שער נייר הערך | U1: שווי הוגן (באלפי ש"ח) | V1: עלות מופחתת (באלפי ש"ח) | W1: השיטה שיושמה בדוח הכספי | X1: שיעור מנכסי אפיק ההשקעה | Y1: שיעור מסך נכסי ההשקעה
A2: 292 | B2: 292
A3: 292 | B3: 1454
A4: 292 | B4: 1455

Sheet לא סחיר איגרות חוב מיועדות
A1: מספר קופה/קרן/ח.פ. עבור חברת ביטוח | B1: מספר מסלול | C1: מאפיין עיקרי | D1: שם נייר ערך | E1: מספר נייר ערך | F1: תאריך רכישה | G1: מח"מ | H1: סוג הצמדה | I1: מועד פדיון | J1: שיעור ריבית | K1: תשואה לפדיון | L1: ערך נקוב (יחידות) | M1: שער נייר הערך | N1: שווי הוגן (באלפי ש"ח) | O1: עלות מופחתת (באלפי ש"ח) | P1: השיטה שיושמה בדוח הכספי | Q1: שיעור מנכסי אפיק ההשקעה | R1: שיעור מסך נכסי ההשקעה
A2: 292 | B2: 292
A3: 292 | B3: 1454
A4: 292 | B4: 1455

Sheet אפיק השקעה מובטח תשואה
A1: מספר קרן | B1: מספר מסלול | C1: מאפיין עיקרי | D1: חודש הנפקת שכבה | E1: חודש הבדיקה | F1: שווי הנכסים באפיק (באלפי ש"ח) | G1: שיעור מסך נכסי ההשקעה
A2: 292 | B2: 292
A3: 292 | B3: 1454
A4: 292 | B4: 1455

Sheet לא סחיר ניירות ערך מסחריים
A1: מספר קופה/קרן/ח.פ. עבור חברת ביטוח | B1: מספר מסלול | C1: שם מנפיק | D1: מספר מנפיק | E1: סוג מספר מזהה מנפיק | F1: שם נייר ערך | G1: מספר נייר ערך | H1: סוג מספר נייר ערך | I1: מאפיין עיקרי | J1: ישראל/חו"ל | K1: מדינה לפי חשיפה כלכלית | L1: ענף מסחר | M1: בעל עניין/צד קשור | N1: תאריך רכישה | O1: דירוג | P1: שם מדרג | Q1: דירוג נייר הערך/המנפיק | R1: מטבע פעילות | S1: מח"מ | T1: סוג הצמדה | U1: ריבית עוגן | V1: מועד פדיון | W1: שיעור ריבית | X1: תשואה לפדיון | Y1: נחיתות חוזית | Z1: האם סווג כחוב בעייתי | AA1: סוג גורם משערך | AB1: תלות/אי-תלות המשערך | AC1: שם גורם משערך | AD1: תאריך שערוך אחרון | AE1: תאריך אחרון בו נבחנה בפועל ירידת ערך | AF1: ערך נקוב (יחידות) | AG1: שער חליפין | AH1: שער נייר הערך | AI1: שווי הוגן (באלפי ש"ח) | AJ1: עלות מופחתת (באלפי ש"ח) | AK1: עלות מופחתת (במטבע הפעילות) | AL1: השיטה שיושמה בדוח הכספי | AM1: שיעור מנכסי אפיק ההשקעה | AN1: שיעור מסך נכסי ההשקעה
A2: 292 | B2: 292
A3: 292 | B3: 1454
A4: 292 | B4: 1455

Sheet לא סחיר איגרות חוב
